BEGIN:VCALENDAR
VERSION:2.0
METHOD:PUBLISH
X-WR-CALNAME;VALUE=TEXT:
PRODID:-//Drupal iCal API//EN
BEGIN:VEVENT
2026-02-18 01:00:00 AEDT
2026-02-18 02:00:00 AEDT
DTSTART:20260217T140000Z
DTEND:20260217T150000Z
SUMMARY:ANU Art Collection Tour
UID:bee01d74-1bab-481e-9a5b-07914ef8522d
URL:https://orientation.anu.edu.au/o-week-events/anu-art-collection-tour
END:VEVENT
END:VCALENDAR
