BEGIN:VCALENDAR
VERSION:2.0
METHOD:PUBLISH
X-WR-CALNAME;VALUE=TEXT:
PRODID:-//Drupal iCal API//EN
BEGIN:VEVENT
2026-02-16 11:00:00 AEDT
2026-02-17 12:00:00 AEDT
DTSTART:20260216T120000Z
DTEND:20260216T130000Z
SUMMARY:O-Week Kitchen Garden Tours
UID:3a55c8fa-6974-4cbf-b643-07210171f052
URL:https://orientation.anu.edu.au/o-week-events/o-week-kitchen-garden-tours
END:VEVENT
END:VCALENDAR
