BEGIN:VCALENDAR
VERSION:2.0
METHOD:PUBLISH
X-WR-CALNAME;VALUE=TEXT:
PRODID:-//Drupal iCal API//EN
BEGIN:VEVENT
2026-02-20 01:15:00 AEDT
2026-02-20 02:15:00 AEDT
DTSTART:20260219T141500Z
DTEND:20260219T151500Z
SUMMARY:Yoga
UID:f83a1e74-d31d-401c-a11f-62af88b0a868
URL:https://orientation.anu.edu.au/o-week-events/yoga
END:VEVENT
END:VCALENDAR
