BEGIN:VCALENDAR
VERSION:2.0
METHOD:PUBLISH
X-WR-CALNAME;VALUE=TEXT:
PRODID:-//Drupal iCal API//EN
BEGIN:VEVENT
2026-02-18 10:00:00 AEDT
2026-02-18 11:00:00 AEDT
DTSTART:20260218T110000Z
DTEND:20260218T120000Z
SUMMARY:Yoga on Kambri Lawns
UID:f6205a9d-3359-4efb-b9da-6f4cc0ea148b
URL:https://orientation.anu.edu.au/o-week-events/yoga-kambri-lawns
END:VEVENT
END:VCALENDAR
