BEGIN:VCALENDAR
VERSION:2.0
METHOD:PUBLISH
X-WR-CALNAME;VALUE=TEXT:
PRODID:-//Drupal iCal API//EN
BEGIN:VEVENT
2026-02-15 09:00:00 AEDT
2026-02-15 10:00:00 AEDT
DTSTART:20260215T100000Z
DTEND:20260215T110000Z
SUMMARY:Pilates on Kambri Lawns
UID:ac46634e-c6b6-48a4-aac6-f978fa17cb4e
URL:https://orientation.anu.edu.au/o-week-events/pilates-kambri-lawns
END:VEVENT
END:VCALENDAR
