BEGIN:VCALENDAR
VERSION:2.0
METHOD:PUBLISH
X-WR-CALNAME;VALUE=TEXT:
PRODID:-//Drupal iCal API//EN
BEGIN:VEVENT
2026-02-20 01:00:00 AEDT
2026-02-20 02:15:00 AEDT
DTSTART:20260219T140000Z
DTEND:20260219T151500Z
SUMMARY:ANU General Campus Tour
UID:e8163432-0c44-4dc9-baa3-52d3f102c2d7
URL:https://orientation.anu.edu.au/o-week-events/anu-general-campus-tour
END:VEVENT
END:VCALENDAR
