BEGIN:VCALENDAR
VERSION:2.0
METHOD:PUBLISH
X-WR-CALNAME;VALUE=TEXT:
PRODID:-//Drupal iCal API//EN
BEGIN:VEVENT
2026-02-19 02:15:00 AEDT
2026-02-19 03:00:00 AEDT
DTSTART:20260218T151500Z
DTEND:20260218T160000Z
SUMMARY:ANU Support and Services Tour
UID:022fda5d-0944-4912-b64a-e1de9391c088
URL:https://orientation.anu.edu.au/o-week-events/anu-support-and-services-tour
END:VEVENT
END:VCALENDAR
